BEGIN:VCALENDAR
VERSION:2.0
PRODID:-//Intand Corporation//Tandem//EN
METHOD:PUBLISH
BEGIN:VEVENT
DTSTAMP:20260425T110619Z
DTSTART:20260502T140000Z
DTEND:20260502T220000Z
TRANSP:TRANSPARENT
PRIORITY:0
SUMMARY:SAT-RHS "We are a site"
LOCATION:RHS-101\, RHS-112\, RHS-123\, RHS-100\, RHS-115\, RHS-113\, RHS-1
 09\, RHS-103\, RHS-111\, RHS-110\, RHS-124\, RHS-102\, RHS-122\, RHS-Multi
 -Purpose Room (50)\, RHS-114
DESCRIPTION:Schools:\nReynolds High School\n\nLocations:\nRHS-101\nRHS-112
 \nRHS-123\nRHS-100\nRHS-115\nRHS-113\nRHS-109\nRHS-103\nRHS-111\nRHS-110\n
 RHS-124\nRHS-102\nRHS-122\nRHS-Multi-Purpose Room (50)\nRHS-114\n\n
URL;VALUE=URI:http://rhs.reynoldssd7.tandem.co/index.php?type=view&action=
 event&id=7376296
CREATED:20250204T195105Z
LAST-MODIFIED:20250204T195105Z
UID:event-7376296-reynoldssd7@intand.com
END:VEVENT
END:VCALENDAR
