BEGIN:VCALENDAR
VERSION:2.0
PRODID:-//Intand Corporation//Tandem//EN
METHOD:PUBLISH
BEGIN:VEVENT
DTSTAMP:20260425T105809Z
DTSTART:20260510T020000Z
DTEND:20260510T050000Z
TRANSP:TRANSPARENT
PRIORITY:0
SUMMARY:PROM!
LOCATION:Castaway Portland
DESCRIPTION:Schools:\nReynolds High School\n\nLocation:\nCastaway Portland
 \n\n
URL;VALUE=URI:http://rhs.reynoldssd7.tandem.co/index.php?type=view&action=
 event&id=7376991
CREATED:20250417T204902Z
LAST-MODIFIED:20250417T204902Z
UID:event-7376991-reynoldssd7@intand.com
END:VEVENT
END:VCALENDAR
