BEGIN:VCALENDAR
VERSION:2.0
PRODID:-//Intand Corporation//Tandem//EN
METHOD:PUBLISH
BEGIN:VEVENT
DTSTAMP:20260425T105810Z
DTSTART;VALUE=DATE:20260504
DTEND;VALUE=DATE:20260505
TRANSP:TRANSPARENT
PRIORITY:0
SUMMARY:MHC Boys Golf Tournament @ Stone Creek G.C
LOCATION:Stone Creek Golf Club
DESCRIPTION:Schools:\nReynolds High School\n\nLocation:\nStone Creek Golf 
 Club\n\n
URL;VALUE=URI:http://rhs.reynoldssd7.tandem.co/index.php?type=view&action=
 event&id=7377719
CREATED:20250522T185951Z
LAST-MODIFIED:20250522T185951Z
UID:event-7377719-reynoldssd7@intand.com
END:VEVENT
END:VCALENDAR
