BEGIN:VCALENDAR
VERSION:2.0
PRODID:-//Intand Corporation//Tandem//EN
METHOD:PUBLISH
BEGIN:VEVENT
DTSTAMP:20260425T124039Z
DTSTART:20260401T233000Z
DTEND:20260402T020000Z
TRANSP:TRANSPARENT
PRIORITY:0
SUMMARY:SB: RHS @ Sprague
LOCATION:SPRAGUE HIGH SCHOOL
DESCRIPTION:Groups:\nSoftball\n\nSchools:\nSPRAGUE HIGH SCHOOL\nReynolds H
 igh School\n\nLocation:\nSPRAGUE HIGH SCHOOL\n\n
URL;VALUE=URI:http://rhs.reynoldssd7.tandem.co/index.php?type=view&action=
 event&id=7377732
CREATED:20250522T190828Z
LAST-MODIFIED:20250522T190828Z
UID:event-7377732-reynoldssd7@intand.com
END:VEVENT
END:VCALENDAR
