BEGIN:VCALENDAR
VERSION:2.0
PRODID:-//Intand Corporation//Tandem//EN
METHOD:PUBLISH
BEGIN:VEVENT
DTSTAMP:20260425T143535Z
DTSTART:20260528T020000Z
DTEND:20260528T030000Z
TRANSP:TRANSPARENT
PRIORITY:0
SUMMARY:AVID Awards Night
LOCATION:RHS-Ben Brooks Auditorium
DESCRIPTION:Setup: 5:00 pm\nBreakdown: 9:00 pm\n\nGroups:\nAVID Teachers\n
 \nSchools:\nReynolds High School\n\nLocation:\nRHS-Ben Brooks Auditorium\n
 \n
URL;VALUE=URI:http://rhs.reynoldssd7.tandem.co/index.php?type=view&action=
 event&id=7377767
CREATED:20250522T193448Z
LAST-MODIFIED:20250522T194127Z
UID:event_request-7377767-reynoldssd7@intand.com
END:VEVENT
END:VCALENDAR
