BEGIN:VCALENDAR
VERSION:2.0
PRODID:-//Intand Corporation//Tandem//EN
METHOD:PUBLISH
BEGIN:VEVENT
DTSTAMP:20260425T143543Z
DTSTART:20260520T231500Z
DTEND:20260521T001500Z
TRANSP:TRANSPARENT
PRIORITY:0
SUMMARY:Master Schedule Committee
LOCATION:Reynolds High School
DESCRIPTION:Room 106\n\n\nSchools:\nReynolds High School\n\nLocation:\nRey
 nolds High School\n\n
URL;VALUE=URI:http://rhs.reynoldssd7.tandem.co/index.php?type=view&action=
 event&id=7378622
CREATED:20250814T174224Z
LAST-MODIFIED:20250814T174224Z
UID:event-7378622-reynoldssd7@intand.com
END:VEVENT
END:VCALENDAR
