BEGIN:VCALENDAR
VERSION:2.0
PRODID:-//Intand Corporation//Tandem//EN
METHOD:PUBLISH
BEGIN:VEVENT
DTSTAMP:20260425T160912Z
DTSTART:20260624T173000Z
DTEND:20260624T183000Z
TRANSP:TRANSPARENT
PRIORITY:0
SUMMARY:College and Career Team
LOCATION:RHS-College and Career (30)
DESCRIPTION:Groups:\nCollege and Career Access Team\n\nSchools:\nReynolds 
 High School\n\nLocation:\nRHS-College and Career (30)\n\n
URL;VALUE=URI:http://rhs.reynoldssd7.tandem.co/index.php?type=view&action=
 event&id=7378660
CREATED:20250814T183923Z
LAST-MODIFIED:20250814T183923Z
UID:event-7378660-reynoldssd7@intand.com
END:VEVENT
END:VCALENDAR
