BEGIN:VCALENDAR
VERSION:2.0
PRODID:-//Intand Corporation//Tandem//EN
METHOD:PUBLISH
BEGIN:VEVENT
DTSTAMP:20260425T124150Z
DTSTART:20260423T230000Z
DTEND:20260424T040000Z
TRANSP:TRANSPARENT
PRIORITY:0
SUMMARY:MLA Musical @ RHS 
LOCATION:RHS-Ben Brooks Auditorium
DESCRIPTION:Schools:\nReynolds High School\n\nLocation:\nRHS-Ben Brooks Au
 ditorium\n\n
URL;VALUE=URI:http://rhs.reynoldssd7.tandem.co/index.php?type=view&action=
 event&id=7379573
CREATED:20250829T214125Z
LAST-MODIFIED:20250904T175259Z
UID:event_request-7379573-reynoldssd7@intand.com
END:VEVENT
END:VCALENDAR
