BEGIN:VCALENDAR
VERSION:2.0
PRODID:-//Intand Corporation//Tandem//EN
METHOD:PUBLISH
BEGIN:VEVENT
DTSTAMP:20260425T143657Z
DTSTART:20260528T230000Z
DTEND:20260529T040000Z
TRANSP:TRANSPARENT
PRIORITY:0
SUMMARY:RHS Band Concert
LOCATION:RHS-Ben Brooks Auditorium
DESCRIPTION:Groups:\nBand\n\nSchools:\nReynolds High School\n\nLocation:\n
 RHS-Ben Brooks Auditorium\n\n
URL;VALUE=URI:http://rhs.reynoldssd7.tandem.co/index.php?type=view&action=
 event&id=7379577
CREATED:20250829T215105Z
LAST-MODIFIED:20250904T175259Z
UID:event_request-7379577-reynoldssd7@intand.com
END:VEVENT
END:VCALENDAR
