BEGIN:VCALENDAR
VERSION:2.0
PRODID:-//Intand Corporation//Tandem//EN
METHOD:PUBLISH
BEGIN:VEVENT
DTSTAMP:20260425T143535Z
DTSTART:20261103T010000Z
DTEND:20261103T020000Z
TRANSP:TRANSPARENT
PRIORITY:0
SUMMARY:jv cheer weights
LOCATION:RHS-Weight Room
DESCRIPTION:Groups:\nCheerleading\n\nSchools:\nReynolds High School\n\nLoc
 ation:\nRHS-Weight Room\n\n
URL;VALUE=URI:http://rhs.reynoldssd7.tandem.co/index.php?type=view&action=
 event&id=7380290
CREATED:20251104T061019Z
LAST-MODIFIED:20251104T192936Z
UID:event_request-7380290-reynoldssd7@intand.com
END:VEVENT
END:VCALENDAR
