BEGIN:VCALENDAR
VERSION:2.0
PRODID:-//Intand Corporation//Tandem//EN
METHOD:PUBLISH
BEGIN:VEVENT
DTSTAMP:20260425T140846Z
DTSTART:20260916T010000Z
DTEND:20260916T030000Z
TRANSP:TRANSPARENT
PRIORITY:0
SUMMARY:Varsity Cheer practice 
LOCATION:RHS-Multi-Purpose Room (50)
DESCRIPTION:Groups:\nCheerleading\n\nSchools:\nReynolds High School\n\nLoc
 ation:\nRHS-Multi-Purpose Room (50)\n\n
URL;VALUE=URI:http://rhs.reynoldssd7.tandem.co/index.php?type=view&action=
 event&id=7380301
CREATED:20251104T061134Z
LAST-MODIFIED:20251104T192919Z
UID:event_request-7380301-reynoldssd7@intand.com
END:VEVENT
END:VCALENDAR
