BEGIN:VCALENDAR
VERSION:2.0
PRODID:-//Intand Corporation//Tandem//EN
METHOD:PUBLISH
BEGIN:VEVENT
DTSTAMP:20260425T143656Z
DTSTART:20260607T220000Z
DTEND:20260607T230000Z
TRANSP:TRANSPARENT
PRIORITY:0
SUMMARY:Gresham Community Choir Performance
LOCATION:RHS-Ben Brooks Auditorium
DESCRIPTION:Setup: 12:00 pm\nBreakdown: 5:00 pm\n\nSchools:\nReynolds High
  School\n\nLocation:\nRHS-Ben Brooks Auditorium\n\n
URL;VALUE=URI:http://rhs.reynoldssd7.tandem.co/index.php?type=view&action=
 event&id=7380797
CREATED:20251215T190231Z
LAST-MODIFIED:20251215T224406Z
UID:event_request-7380797-reynoldssd7@intand.com
END:VEVENT
END:VCALENDAR
