BEGIN:VCALENDAR
VERSION:2.0
PRODID:-//Intand Corporation//Tandem//EN
METHOD:PUBLISH
BEGIN:VEVENT
DTSTAMP:20260425T143527Z
DTSTART:20261009T150000Z
DTEND:20261009T230000Z
TRANSP:TRANSPARENT
PRIORITY:0
SUMMARY:2026 OASL Fall Conference
LOCATION:RHS-Multi-Purpose Room (50)
DESCRIPTION:Groups:\nAdministration\n\nSchools:\nReynolds High School\n\nL
 ocation:\nRHS-Multi-Purpose Room (50)\n\n
URL;VALUE=URI:http://rhs.reynoldssd7.tandem.co/index.php?type=view&action=
 event&id=7380800
CREATED:20251216T161947Z
LAST-MODIFIED:20251216T161947Z
UID:event-7380800-reynoldssd7@intand.com
END:VEVENT
END:VCALENDAR
