BEGIN:VCALENDAR
VERSION:2.0
PRODID:-//Intand Corporation//Tandem//EN
METHOD:PUBLISH
BEGIN:VEVENT
DTSTAMP:20260425T193608Z
DTSTART:20260515T003000Z
DTEND:20260515T020000Z
TRANSP:TRANSPARENT
PRIORITY:0
SUMMARY:Day of Children/Kinder Connect @ Davis
LOCATION:Davis Elementary School
DESCRIPTION:Schools:\nDavis Elementary School\n\nLocation:\nDavis Elementa
 ry School\n\n
URL;VALUE=URI:http://rhs.reynoldssd7.tandem.co/index.php?type=view&action=
 event&id=7380836
CREATED:20260105T223207Z
LAST-MODIFIED:20260401T165122Z
UID:event-7380836-reynoldssd7@intand.com
END:VEVENT
END:VCALENDAR
