BEGIN:VCALENDAR
VERSION:2.0
PRODID:-//Intand Corporation//Tandem//EN
METHOD:PUBLISH
BEGIN:VEVENT
DTSTAMP:20260425T141007Z
DTSTART:20260516T000000Z
DTEND:20260516T030000Z
TRANSP:TRANSPARENT
PRIORITY:0
SUMMARY:AYCO Parent Night
LOCATION:RHS-Multi-Purpose Room (50)
DESCRIPTION:Groups:\nAYCO\n\nSchools:\nReynolds High School\n\nLocation:\n
 RHS-Multi-Purpose Room (50)\n\n
URL;VALUE=URI:http://rhs.reynoldssd7.tandem.co/index.php?type=view&action=
 event&id=7381781
CREATED:20260213T222449Z
LAST-MODIFIED:20260213T222449Z
UID:event-7381781-reynoldssd7@intand.com
END:VEVENT
END:VCALENDAR
