BEGIN:VCALENDAR
VERSION:2.0
PRODID:-//Intand Corporation//Tandem//EN
METHOD:PUBLISH
BEGIN:VEVENT
DTSTAMP:20260425T141008Z
DTSTART:20260523T020000Z
DTEND:20260523T040000Z
TRANSP:TRANSPARENT
PRIORITY:0
SUMMARY:WMMS Choir Concert @ RHS
LOCATION:RHS-Ben Brooks Auditorium
DESCRIPTION:Setup: 5:00 pm\nBreakdown: 9:30 pm\n\nSchools:\nWalt Morey Mid
 dle School\nReynolds High School\n\nLocation:\nRHS-Ben Brooks Auditorium\n
 \n
URL;VALUE=URI:http://rhs.reynoldssd7.tandem.co/index.php?type=view&action=
 event&id=7382025
CREATED:20260407T175947Z
LAST-MODIFIED:20260408T195559Z
UID:event_request-7382025-reynoldssd7@intand.com
END:VEVENT
END:VCALENDAR
