BEGIN:VCALENDAR
VERSION:2.0
PRODID:-//Intand Corporation//Tandem//EN
METHOD:PUBLISH
BEGIN:VEVENT
DTSTAMP:20260425T193027Z
DTSTART:20260519T165000Z
DTEND:20260519T181500Z
TRANSP:TRANSPARENT
PRIORITY:0
SUMMARY:5th graders to WMMS
LOCATION:Sweetbriar Elementary School
DESCRIPTION:5th graders to visit WMMS\n\n\nSchools:\nSweetbriar Elementary
  School\n\nLocation:\nSweetbriar Elementary School\n\n
URL;VALUE=URI:http://rhs.reynoldssd7.tandem.co/index.php?type=view&action=
 event&id=7382045
CREATED:20260422T163724Z
LAST-MODIFIED:20260422T163724Z
UID:event-7382045-reynoldssd7@intand.com
END:VEVENT
END:VCALENDAR
